BEGIN:VCALENDAR
VERSION:2.0
PRODID:-//Sabre//Sabre VObject 4.5.8//EN
CALSCALE:GREGORIAN
BEGIN:VEVENT
UID:sabre-vobject-a7ee969f-3839-49c5-86cf-3f47b62f4e16
DTSTAMP:20260423T095047Z
SUMMARY:Hip-Hop Beginners Dance Class 
DESCRIPTION:
X-ALT-DESC:FMTTYPE=text/html:<!DOCTYPE HTML PUBLIC "-//W3C//DTD HTML 3.2//E
 N"><HTML></HTML>
CREATED;TZID=America/Denver:20260224T135807
URL;VALUE=URI:https://bliss.armymwr.com/calendar/event
DTSTART;TZID=America/Denver:20260327T170000
DTEND;TZID=America/Denver:20260327T190000
SEQUENCE:0
END:VEVENT
END:VCALENDAR
