BEGIN:VCALENDAR
VERSION:2.0
PRODID:-//Sabre//Sabre VObject 4.5.8//EN
CALSCALE:GREGORIAN
BEGIN:VEVENT
UID:sabre-vobject-0cc9eade-9002-48e1-8ccd-22f7bfcd392e
DTSTAMP:20260423T095048Z
SUMMARY:Spring Break Desert Madness 
DESCRIPTION:
X-ALT-DESC:FMTTYPE=text/html:<!DOCTYPE HTML PUBLIC "-//W3C//DTD HTML 3.2//E
 N"><HTML></HTML>
CREATED;TZID=America/Denver:20260224T152501
URL;VALUE=URI:https://bliss.armymwr.com/calendar/event
DTSTART;TZID=America/Denver:20260314T000000
DTEND;TZID=America/Denver:20260321T235959
SEQUENCE:0
END:VEVENT
END:VCALENDAR
