BEGIN:VCALENDAR
VERSION:2.0
PRODID:-//Sabre//Sabre VObject 4.5.8//EN
CALSCALE:GREGORIAN
BEGIN:VEVENT
UID:sabre-vobject-7f7b0f1d-6412-45e4-abf2-2ea800ee2320
DTSTAMP:20260421T163326Z
SUMMARY:Centennial Presents: Mother's Day Brunch 
DESCRIPTION:
X-ALT-DESC:FMTTYPE=text/html:<!DOCTYPE HTML PUBLIC "-//W3C//DTD HTML 3.2//E
 N"><HTML></HTML>
CREATED;TZID=America/Denver:20260414T145651
URL;VALUE=URI:https://bliss.armymwr.com/calendar/event
DTSTART;TZID=America/Denver:20260510T100000
DTEND;TZID=America/Denver:20260510T130000
SEQUENCE:0
END:VEVENT
END:VCALENDAR
