BEGIN:VCALENDAR
VERSION:2.0
PRODID:-//Sabre//Sabre VObject 4.5.8//EN
CALSCALE:GREGORIAN
BEGIN:VEVENT
UID:sabre-vobject-411cad6f-a1b9-4fef-ad61-db565abec6ae
DTSTAMP:20260423T154133Z
SUMMARY:Destination El Paso Presents: America's 250th Celebration 
DESCRIPTION:
X-ALT-DESC:FMTTYPE=text/html:<!DOCTYPE HTML PUBLIC "-//W3C//DTD HTML 3.2//E
 N"><HTML></HTML>
CREATED;TZID=America/Denver:20260414T171739
URL;VALUE=URI:https://bliss.armymwr.com/calendar/event
DTSTART;TZID=America/Denver:20260704T170000
DTEND;TZID=America/Denver:20260704T220000
SEQUENCE:0
END:VEVENT
END:VCALENDAR
