BEGIN:VCALENDAR
VERSION:2.0
PRODID:-//Sabre//Sabre VObject 4.5.8//EN
CALSCALE:GREGORIAN
BEGIN:VEVENT
UID:sabre-vobject-77320d22-63bb-42b1-9bdd-596c75965cf0
DTSTAMP:20260420T205748Z
SUMMARY:Domestic Violence Awarness BBQ and Movie Night! 
DESCRIPTION:DVAM BBQ\n
X-ALT-DESC:FMTTYPE=text/html:<!DOCTYPE HTML PUBLIC "-//W3C//DTD HTML 3.2//E
 N"><HTML><p>DVAM BBQ</p>\n</HTML>
CREATED;TZID=America/Denver:20180806T152223
URL;VALUE=URI:https://bliss.armymwr.com/calendar/event
DTSTART;TZID=America/Denver:20181018T170000
DTEND;TZID=America/Denver:20181018T210000
SEQUENCE:0
END:VEVENT
END:VCALENDAR
