BEGIN:VCALENDAR
VERSION:2.0
PRODID:-//Sabre//Sabre VObject 4.5.8//EN
CALSCALE:GREGORIAN
BEGIN:VEVENT
UID:sabre-vobject-979ae781-f054-46ec-abe9-5339f368fa85
DTSTAMP:20260425T000338Z
SUMMARY:Youth Sports USA Track and Field 
DESCRIPTION:Is your child interested in staying active and getting involved
  in track &amp\; field\, running and athletics?\n
X-ALT-DESC:FMTTYPE=text/html:<!DOCTYPE HTML PUBLIC "-//W3C//DTD HTML 3.2//E
 N"><HTML><p>Is your child interested in staying active and getting involve
 d in track &amp\; field\, running and athletics?</p>\n</HTML>
CREATED;TZID=America/Denver:20200209T123400
URL;VALUE=URI:https://bliss.armymwr.com/calendar/event
DTSTART;TZID=America/Denver:20200302T150000
DTEND;TZID=America/Denver:20200302T180000
SEQUENCE:0
END:VEVENT
END:VCALENDAR
