BEGIN:VCALENDAR
VERSION:2.0
PRODID:-//Sabre//Sabre VObject 4.5.8//EN
CALSCALE:GREGORIAN
BEGIN:VEVENT
UID:sabre-vobject-9d4dfc65-2330-48ac-8834-a5c27ec26d1f
DTSTAMP:20260421T152126Z
SUMMARY:Art & Hobby Shop - Encaustics with Sally & Ben Avant 
DESCRIPTION:Get your Wax on!\n
X-ALT-DESC:FMTTYPE=text/html:<!DOCTYPE HTML PUBLIC "-//W3C//DTD HTML 3.2//E
 N"><HTML><p>Get your Wax on!</p>\n</HTML>
CREATED;TZID=America/Denver:20180808T142304
URL;VALUE=URI:https://bliss.armymwr.com/calendar/event
DTSTART;TZID=America/Denver:20180906T170000
DTEND;TZID=America/Denver:20180906T200000
SEQUENCE:0
END:VEVENT
BEGIN:VEVENT
UID:sabre-vobject-da42f63f-a096-451e-a935-9820f850873b
DTSTAMP:20260421T152126Z
SUMMARY:Art & Hobby Shop - Encaustics with Sally & Ben Avant 
DESCRIPTION:Get your Wax on!\n
X-ALT-DESC:FMTTYPE=text/html:<!DOCTYPE HTML PUBLIC "-//W3C//DTD HTML 3.2//E
 N"><HTML><p>Get your Wax on!</p>\n</HTML>
CREATED;TZID=America/Denver:20180808T142304
URL;VALUE=URI:https://bliss.armymwr.com/calendar/event
DTSTART;TZID=America/Denver:20180908T100000
DTEND;TZID=America/Denver:20180908T150000
SEQUENCE:1
END:VEVENT
END:VCALENDAR
