BEGIN:VCALENDAR
VERSION:2.0
PRODID:-//Sabre//Sabre VObject 4.5.8//EN
CALSCALE:GREGORIAN
BEGIN:VEVENT
UID:sabre-vobject-0b5b82ab-3d03-4722-bdcc-972fd8e25bff
DTSTAMP:20260425T025754Z
SUMMARY:Replica Youth Center Hodge Podge Summer Camp 
DESCRIPTION:Looking for a fun summer camp for your child?\n
X-ALT-DESC:FMTTYPE=text/html:<!DOCTYPE HTML PUBLIC "-//W3C//DTD HTML 3.2//E
 N"><HTML><p>Looking for a fun summer camp for your child?</p>\n</HTML>
CREATED;TZID=America/Denver:20180420T083254
URL;VALUE=URI:https://bliss.armymwr.com/calendar/event
DTSTART;TZID=America/Denver:20180604T080000
DTEND;TZID=America/Denver:20180608T130000
SEQUENCE:0
END:VEVENT
END:VCALENDAR
