BEGIN:VCALENDAR
VERSION:2.0
PRODID:-//Sabre//Sabre VObject 4.5.8//EN
CALSCALE:GREGORIAN
BEGIN:VEVENT
UID:sabre-vobject-37c5646e-a071-43d9-ba62-a3596e50ae15
DTSTAMP:20260424T173247Z
SUMMARY:Replica Youth Center Adventure Summer Camp 
DESCRIPTION:Looking for fun activities for your teen this summer? Check out
  the RYC Adventure Camp!\n
X-ALT-DESC:FMTTYPE=text/html:<!DOCTYPE HTML PUBLIC "-//W3C//DTD HTML 3.2//E
 N"><HTML><p>Looking for fun activities for your teen this summer? Check ou
 t the RYC Adventure Camp!</p>\n</HTML>
CREATED;TZID=America/Denver:20180419T132544
URL;VALUE=URI:https://bliss.armymwr.com/calendar/event
DTSTART;TZID=America/Denver:20180702T080000
DTEND;TZID=America/Denver:20180706T170000
SEQUENCE:0
END:VEVENT
END:VCALENDAR
