BEGIN:VCALENDAR
VERSION:2.0
PRODID:-//Sabre//Sabre VObject 4.5.8//EN
CALSCALE:GREGORIAN
BEGIN:VEVENT
UID:sabre-vobject-ae1b2317-2c8a-47e2-9cad-96436f9e17c2
DTSTAMP:20260424T050833Z
SUMMARY:Replica Youth Center Splash Summer Camp 
DESCRIPTION:Replica Youth Center Splash Summer Camp\n
X-ALT-DESC:FMTTYPE=text/html:<!DOCTYPE HTML PUBLIC "-//W3C//DTD HTML 3.2//E
 N"><HTML><p>Replica Youth Center Splash Summer Camp</p>\n</HTML>
CREATED;TZID=America/Denver:20180419T140836
URL;VALUE=URI:https://bliss.armymwr.com/calendar/event
DTSTART;TZID=America/Denver:20180806T080000
DTEND;TZID=America/Denver:20180810T130000
SEQUENCE:0
END:VEVENT
END:VCALENDAR
