BEGIN:VCALENDAR
VERSION:2.0
PRODID:-//Sabre//Sabre VObject 4.5.8//EN
CALSCALE:GREGORIAN
BEGIN:VEVENT
UID:sabre-vobject-833723d7-7e41-4857-a88f-8fcc105ef4b8
DTSTAMP:20260424T051031Z
SUMMARY:NRA Advanced Defensive Pistol Course 
DESCRIPTION:NRA Advanced Defensive Pistol Course\n
X-ALT-DESC:FMTTYPE=text/html:<!DOCTYPE HTML PUBLIC "-//W3C//DTD HTML 3.2//E
 N"><HTML><p>NRA Advanced Defensive Pistol Course</p>\n</HTML>
CREATED;TZID=America/Denver:20180724T092605
URL;VALUE=URI:https://bliss.armymwr.com/calendar/event
DTSTART;TZID=America/Denver:20180526T080000
DTEND;TZID=America/Denver:20180527T170000
SEQUENCE:0
END:VEVENT
BEGIN:VEVENT
UID:sabre-vobject-84bbd834-f8d1-4d04-b6ea-4402e01c4f98
DTSTAMP:20260424T051031Z
SUMMARY:NRA Advanced Defensive Pistol Course 
DESCRIPTION:NRA Advanced Defensive Pistol Course\n
X-ALT-DESC:FMTTYPE=text/html:<!DOCTYPE HTML PUBLIC "-//W3C//DTD HTML 3.2//E
 N"><HTML><p>NRA Advanced Defensive Pistol Course</p>\n</HTML>
CREATED;TZID=America/Denver:20180724T092605
URL;VALUE=URI:https://bliss.armymwr.com/calendar/event
DTSTART;TZID=America/Denver:20180825T080000
DTEND;TZID=America/Denver:20180826T170000
SEQUENCE:1
END:VEVENT
END:VCALENDAR
