BEGIN:VCALENDAR
VERSION:2.0
PRODID:-//Sabre//Sabre VObject 4.5.8//EN
CALSCALE:GREGORIAN
BEGIN:VEVENT
UID:sabre-vobject-f6b99f0c-385b-4090-a5fc-f4f06f48e031
DTSTAMP:20260423T163740Z
SUMMARY:Tap and Cork: Craft Beer and Wine Festival
DESCRIPTION:Bigger and Bubblier!\n
X-ALT-DESC:FMTTYPE=text/html:<!DOCTYPE HTML PUBLIC "-//W3C//DTD HTML 3.2//E
 N"><HTML><p>Bigger and Bubblier!</p>\n</HTML>
CREATED;TZID=America/Denver:20180716T115611
URL;VALUE=URI:https://bliss.armymwr.com/calendar/event
DTSTART;TZID=America/Denver:20180803T180000
DTEND;TZID=America/Denver:20180803T000000
SEQUENCE:0
END:VEVENT
BEGIN:VEVENT
UID:sabre-vobject-cb7a157b-a32e-46c0-858d-89b31128c582
DTSTAMP:20260423T163740Z
SUMMARY:Tap and Cork: Craft Beer and Wine Festival
DESCRIPTION:Bigger and Bubblier!\n
X-ALT-DESC:FMTTYPE=text/html:<!DOCTYPE HTML PUBLIC "-//W3C//DTD HTML 3.2//E
 N"><HTML><p>Bigger and Bubblier!</p>\n</HTML>
CREATED;TZID=America/Denver:20180716T115611
URL;VALUE=URI:https://bliss.armymwr.com/calendar/event
DTSTART;TZID=America/Denver:20180804T140000
DTEND;TZID=America/Denver:20180804T220000
SEQUENCE:1
END:VEVENT
END:VCALENDAR
