BEGIN:VCALENDAR
VERSION:2.0
PRODID:-//Sabre//Sabre VObject 4.5.8//EN
CALSCALE:GREGORIAN
BEGIN:VEVENT
UID:sabre-vobject-c95beb93-46c0-40dd-b93e-e1da774706ff
DTSTAMP:20260424T050818Z
SUMMARY:Day & Night Summer Golf Tournament
DESCRIPTION:
X-ALT-DESC:FMTTYPE=text/html:<!DOCTYPE HTML PUBLIC "-//W3C//DTD HTML 3.2//E
 N"><HTML></HTML>
CREATED;TZID=America/Denver:20180601T155459
URL;VALUE=URI:https://bliss.armymwr.com/calendar/event
DTSTART;TZID=America/Denver:20180728T170000
DTEND;TZID=America/Denver:20180728T230000
SEQUENCE:0
END:VEVENT
END:VCALENDAR
