BEGIN:VCALENDAR
VERSION:2.0
PRODID:-//Sabre//Sabre VObject 4.5.8//EN
CALSCALE:GREGORIAN
BEGIN:VEVENT
UID:sabre-vobject-13c18f20-a97a-4b84-8900-ffb171049d12
DTSTAMP:20260424T051051Z
SUMMARY:Back to the Basics Summer Dance Camp
DESCRIPTION:Interested in dance classes? If so\, check out the Back to the 
 Basics Summer Dance Camp!\n
X-ALT-DESC:FMTTYPE=text/html:<!DOCTYPE HTML PUBLIC "-//W3C//DTD HTML 3.2//E
 N"><HTML><p>Interested in dance classes? If so\, check out the Back to the
  Basics Summer Dance Camp!</p>\n</HTML>
CREATED;TZID=America/Denver:20180614T140841
URL;VALUE=URI:https://bliss.armymwr.com/calendar/event
DTSTART;TZID=America/Denver:20180806T113000
DTEND;TZID=America/Denver:20180809T133000
SEQUENCE:0
END:VEVENT
END:VCALENDAR
