BEGIN:VCALENDAR
VERSION:2.0
PRODID:-//Sabre//Sabre VObject 4.5.8//EN
CALSCALE:GREGORIAN
BEGIN:VEVENT
UID:sabre-vobject-d52dd69b-3491-48bf-998e-baae01c00f17
DTSTAMP:20260424T063956Z
SUMMARY:SKIESUnlimited Archery Camp For Beginners 
DESCRIPTION:SKIESUnlimited Archery Camp For Beginners\n
X-ALT-DESC:FMTTYPE=text/html:<!DOCTYPE HTML PUBLIC "-//W3C//DTD HTML 3.2//E
 N"><HTML><p>SKIESUnlimited Archery Camp For Beginners</p>\n</HTML>
CREATED;TZID=America/Denver:20180614T133458
URL;VALUE=URI:https://bliss.armymwr.com/calendar/event
DTSTART;TZID=America/Denver:20180806T090000
DTEND;TZID=America/Denver:20180809T110000
SEQUENCE:0
END:VEVENT
END:VCALENDAR
