BEGIN:VCALENDAR
VERSION:2.0
PRODID:-//Sabre//Sabre VObject 4.5.8//EN
CALSCALE:GREGORIAN
BEGIN:VEVENT
UID:sabre-vobject-862d57c6-46da-4ef2-bf3c-bf18d7e8120d
DTSTAMP:20260424T051046Z
SUMMARY:Army Family Team Building: Leadership Development 
DESCRIPTION:
X-ALT-DESC:FMTTYPE=text/html:<!DOCTYPE HTML PUBLIC "-//W3C//DTD HTML 3.2//E
 N"><HTML></HTML>
CREATED;TZID=America/Denver:20180619T150757
URL;VALUE=URI:https://bliss.armymwr.com/calendar/event
DTSTART;TZID=America/Denver:20180821T090000
DTEND;TZID=America/Denver:20180821T143000
SEQUENCE:0
END:VEVENT
END:VCALENDAR
