BEGIN:VCALENDAR
VERSION:2.0
PRODID:-//Sabre//Sabre VObject 4.5.8//EN
CALSCALE:GREGORIAN
BEGIN:VEVENT
UID:sabre-vobject-5041b9d1-e5d7-4a0b-b150-41f56c389244
DTSTAMP:20260423T125324Z
SUMMARY:Army Community Services 53rd Birthday Bash! 
DESCRIPTION:Get your party on!\n
X-ALT-DESC:FMTTYPE=text/html:<!DOCTYPE HTML PUBLIC "-//W3C//DTD HTML 3.2//E
 N"><HTML><p>Get your party on!</p>\n</HTML>
CREATED;TZID=America/Denver:20180621T111846
URL;VALUE=URI:https://bliss.armymwr.com/calendar/event
DTSTART;TZID=America/Denver:20180725T090000
DTEND;TZID=America/Denver:20180725T130000
SEQUENCE:0
END:VEVENT
END:VCALENDAR
