BEGIN:VCALENDAR
VERSION:2.0
PRODID:-//Sabre//Sabre VObject 4.5.8//EN
CALSCALE:GREGORIAN
BEGIN:VEVENT
UID:sabre-vobject-50a1b9a7-e102-4862-8453-16af0fe5adcb
DTSTAMP:20260424T173302Z
SUMMARY:Yappy Hour
DESCRIPTION:Patriotic Pup\n
X-ALT-DESC:FMTTYPE=text/html:<!DOCTYPE HTML PUBLIC "-//W3C//DTD HTML 3.2//E
 N"><HTML><p>Patriotic Pup</p>\n</HTML>
CREATED;TZID=America/Denver:20180626T161350
URL;VALUE=URI:https://bliss.armymwr.com/calendar/event
DTSTART;TZID=America/Denver:20180719T180000
DTEND;TZID=America/Denver:20180719T200000
SEQUENCE:0
END:VEVENT
END:VCALENDAR
