BEGIN:VCALENDAR
VERSION:2.0
PRODID:-//Sabre//Sabre VObject 4.5.8//EN
CALSCALE:GREGORIAN
BEGIN:VEVENT
UID:sabre-vobject-11a59708-544b-4bea-9283-f195bc4d9290
DTSTAMP:20260423T113318Z
SUMMARY:BOSS: Better Opportunities for Single Soldiers\, Wet N' Wild 
DESCRIPTION:
X-ALT-DESC:FMTTYPE=text/html:<!DOCTYPE HTML PUBLIC "-//W3C//DTD HTML 3.2//E
 N"><HTML></HTML>
CREATED;TZID=America/Denver:20180630T115751
URL;VALUE=URI:https://bliss.armymwr.com/calendar/event
DTSTART;TZID=America/Denver:20180729T173000
DTEND;TZID=America/Denver:20180729T210000
SEQUENCE:0
END:VEVENT
END:VCALENDAR
