BEGIN:VCALENDAR
VERSION:2.0
PRODID:-//Sabre//Sabre VObject 4.5.8//EN
CALSCALE:GREGORIAN
BEGIN:VEVENT
UID:sabre-vobject-60ceec04-0690-4c3b-86a6-3ccd4d27821d
DTSTAMP:20260424T094120Z
SUMMARY:BOSS Aqua Float 
DESCRIPTION:BOSS Aqua Float\n
X-ALT-DESC:FMTTYPE=text/html:<!DOCTYPE HTML PUBLIC "-//W3C//DTD HTML 3.2//E
 N"><HTML><p>BOSS Aqua Float</p>\n</HTML>
CREATED;TZID=America/Denver:20180725T084454
URL;VALUE=URI:https://bliss.armymwr.com/calendar/event
DTSTART;TZID=America/Denver:20180807T180000
DTEND;TZID=America/Denver:20180807T190000
SEQUENCE:0
END:VEVENT
END:VCALENDAR
