BEGIN:VCALENDAR
VERSION:2.0
PRODID:-//Sabre//Sabre VObject 4.5.8//EN
CALSCALE:GREGORIAN
BEGIN:VEVENT
UID:sabre-vobject-a1136ca3-c843-4ee5-a06e-25cdf9591fd3
DTSTAMP:20260421T111349Z
SUMMARY:Art & Hobby Shop: Portrait Photography with Leslie Harper 
DESCRIPTION:
X-ALT-DESC:FMTTYPE=text/html:<!DOCTYPE HTML PUBLIC "-//W3C//DTD HTML 3.2//E
 N"><HTML></HTML>
CREATED;TZID=America/Denver:20180823T130113
URL;VALUE=URI:https://bliss.armymwr.com/calendar/event
DTSTART;TZID=America/Denver:20180913T170000
DTEND;TZID=America/Denver:20180913T200000
SEQUENCE:0
END:VEVENT
END:VCALENDAR
