BEGIN:VCALENDAR
VERSION:2.0
PRODID:-//Sabre//Sabre VObject 4.5.8//EN
CALSCALE:GREGORIAN
BEGIN:VEVENT
UID:sabre-vobject-cd143ba4-9d36-4a60-a5c0-518331efc88a
DTSTAMP:20260420T202352Z
SUMMARY:Youth Climbing 
DESCRIPTION:
X-ALT-DESC:FMTTYPE=text/html:<!DOCTYPE HTML PUBLIC "-//W3C//DTD HTML 3.2//E
 N"><HTML></HTML>
CREATED;TZID=America/Denver:20180913T154302
URL;VALUE=URI:https://bliss.armymwr.com/calendar/event
DTSTART;TZID=America/Denver:20181013T120000
DTEND;TZID=America/Denver:20181013T140000
SEQUENCE:0
END:VEVENT
BEGIN:VEVENT
UID:sabre-vobject-00faf51e-3eaa-4e04-b5fc-690d30b3bf68
DTSTAMP:20260420T202352Z
SUMMARY:Youth Climbing 
DESCRIPTION:
X-ALT-DESC:FMTTYPE=text/html:<!DOCTYPE HTML PUBLIC "-//W3C//DTD HTML 3.2//E
 N"><HTML></HTML>
CREATED;TZID=America/Denver:20180913T154302
URL;VALUE=URI:https://bliss.armymwr.com/calendar/event
DTSTART;TZID=America/Denver:20181020T120000
DTEND;TZID=America/Denver:20181020T140000
SEQUENCE:1
END:VEVENT
END:VCALENDAR
