BEGIN:VCALENDAR
VERSION:2.0
PRODID:-//Sabre//Sabre VObject 4.5.8//EN
CALSCALE:GREGORIAN
BEGIN:VEVENT
UID:sabre-vobject-7e336a3d-1cc5-4d47-8074-e642f4bf240e
DTSTAMP:20260421T152043Z
SUMMARY:Fairy Garden 
DESCRIPTION:Are you looking for a child-friendly craft project this fall se
 ason?\n
X-ALT-DESC:FMTTYPE=text/html:<!DOCTYPE HTML PUBLIC "-//W3C//DTD HTML 3.2//E
 N"><HTML><p>Are you looking for a child-friendly craft project this fall s
 eason?</p>\n</HTML>
CREATED;TZID=America/Denver:20180913T143104
URL;VALUE=URI:https://bliss.armymwr.com/calendar/event
DTSTART;TZID=America/Denver:20180907T000000
DTEND;TZID=America/Denver:20181022T235959
SEQUENCE:0
END:VEVENT
END:VCALENDAR
