BEGIN:VCALENDAR
VERSION:2.0
PRODID:-//Sabre//Sabre VObject 4.5.8//EN
CALSCALE:GREGORIAN
BEGIN:VEVENT
UID:sabre-vobject-05ef5cd9-dabd-4872-af20-7e8c7ff26919
DTSTAMP:20260420T202358Z
SUMMARY:Intro to Leatherworking
DESCRIPTION:
X-ALT-DESC:FMTTYPE=text/html:<!DOCTYPE HTML PUBLIC "-//W3C//DTD HTML 3.2//E
 N"><HTML></HTML>
CREATED;TZID=America/Denver:20180921T112849
URL;VALUE=URI:https://bliss.armymwr.com/calendar/event
DTSTART;TZID=America/Denver:20181006T130000
DTEND;TZID=America/Denver:20181006T150000
SEQUENCE:0
END:VEVENT
BEGIN:VEVENT
UID:sabre-vobject-bdc4f99d-df91-4164-b29e-63ee159ad5de
DTSTAMP:20260420T202358Z
SUMMARY:Intro to Leatherworking
DESCRIPTION:
X-ALT-DESC:FMTTYPE=text/html:<!DOCTYPE HTML PUBLIC "-//W3C//DTD HTML 3.2//E
 N"><HTML></HTML>
CREATED;TZID=America/Denver:20180921T112849
URL;VALUE=URI:https://bliss.armymwr.com/calendar/event
DTSTART;TZID=America/Denver:20181013T130000
DTEND;TZID=America/Denver:20181013T150000
SEQUENCE:1
END:VEVENT
END:VCALENDAR
