BEGIN:VCALENDAR
VERSION:2.0
PRODID:-//Sabre//Sabre VObject 4.5.8//EN
CALSCALE:GREGORIAN
BEGIN:VEVENT
UID:sabre-vobject-72b16bb2-7977-4370-9d9c-03ab72fede23
DTSTAMP:20260420T202357Z
SUMMARY:BOSS: Painting Pumpkins
DESCRIPTION:
X-ALT-DESC:FMTTYPE=text/html:<!DOCTYPE HTML PUBLIC "-//W3C//DTD HTML 3.2//E
 N"><HTML></HTML>
CREATED;TZID=America/Denver:20181001T145615
URL;VALUE=URI:https://bliss.armymwr.com/calendar/event
DTSTART;TZID=America/Denver:20181011T110000
DTEND;TZID=America/Denver:20181011T130000
SEQUENCE:0
END:VEVENT
END:VCALENDAR
