BEGIN:VCALENDAR
VERSION:2.0
PRODID:-//Sabre//Sabre VObject 4.5.8//EN
CALSCALE:GREGORIAN
BEGIN:VEVENT
UID:sabre-vobject-a72cb64d-fb4d-4fc9-b4d1-dd2314d9a020
DTSTAMP:20260420T205648Z
SUMMARY:BOSS: Volleyball Costume Party 
DESCRIPTION:Get dressed up!\n
X-ALT-DESC:FMTTYPE=text/html:<!DOCTYPE HTML PUBLIC "-//W3C//DTD HTML 3.2//E
 N"><HTML><p>Get dressed up!</p>\n</HTML>
CREATED;TZID=America/Denver:20181001T145733
URL;VALUE=URI:https://bliss.armymwr.com/calendar/event
DTSTART;TZID=America/Denver:20181017T173000
DTEND;TZID=America/Denver:20181017T200000
SEQUENCE:0
END:VEVENT
END:VCALENDAR
