BEGIN:VCALENDAR
VERSION:2.0
PRODID:-//Sabre//Sabre VObject 4.5.8//EN
CALSCALE:GREGORIAN
BEGIN:VEVENT
UID:sabre-vobject-f18fc02e-4d3b-4673-b246-deffadabfa3f
DTSTAMP:20260420T205648Z
SUMMARY:SKIESUnlimited Star Mountain Gymnastics Meet 
DESCRIPTION:Join SKIESUnlimited at their main gymnastics event of the year!
  \n
X-ALT-DESC:FMTTYPE=text/html:<!DOCTYPE HTML PUBLIC "-//W3C//DTD HTML 3.2//E
 N"><HTML><p><span style="font-size:11.0pt\;font-family:&quot\;Calibri&quot
 \;\,sans-serif\;\nmso-ascii-theme-font:minor-latin\;mso-fareast-font-famil
 y:Calibri\;mso-fareast-theme-font:\nminor-latin\;mso-hansi-theme-font:mino
 r-latin\;mso-bidi-font-family:&quot\;Times New Roman&quot\;\;\nmso-bidi-th
 eme-font:minor-bidi\;mso-ansi-language:EN-US\;mso-fareast-language:\nEN-US
 \;mso-bidi-language:AR-SA">Join SKIESUnlimited at their main gymnastics ev
 ent of the year! </span></p>\n</HTML>
CREATED;TZID=America/Denver:20180924T120350
URL;VALUE=URI:https://bliss.armymwr.com/calendar/event
DTSTART;TZID=America/Denver:20181027T000000
DTEND;TZID=America/Denver:20181027T235959
SEQUENCE:0
END:VEVENT
END:VCALENDAR
