BEGIN:VCALENDAR
VERSION:2.0
PRODID:-//Sabre//Sabre VObject 4.5.8//EN
CALSCALE:GREGORIAN
BEGIN:VEVENT
UID:sabre-vobject-cbd8948a-fb78-4c2c-b79b-650528e450ca
DTSTAMP:20260420T171508Z
SUMMARY:BOSS: La Union Corn Maze 
DESCRIPTION:Are you a Single Soldier looking for a fun fall activity?\n
X-ALT-DESC:FMTTYPE=text/html:<!DOCTYPE HTML PUBLIC "-//W3C//DTD HTML 3.2//E
 N"><HTML><p>Are you a Single Soldier looking for a fun fall activity?</p>\
 n</HTML>
CREATED;TZID=America/Denver:20180927T121000
URL;VALUE=URI:https://bliss.armymwr.com/calendar/event
DTSTART;TZID=America/Denver:20181019T180000
DTEND;TZID=America/Denver:20181019T220000
SEQUENCE:0
END:VEVENT
END:VCALENDAR
