BEGIN:VCALENDAR
VERSION:2.0
PRODID:-//Sabre//Sabre VObject 4.5.8//EN
CALSCALE:GREGORIAN
BEGIN:VEVENT
UID:sabre-vobject-e0c645d3-7417-45c8-abfd-86b71d53d178
DTSTAMP:20260420T203258Z
SUMMARY:Buggie Bootcamp with Ben at Soto PFC
DESCRIPTION:
X-ALT-DESC:FMTTYPE=text/html:<!DOCTYPE HTML PUBLIC "-//W3C//DTD HTML 3.2//E
 N"><HTML></HTML>
CREATED;TZID=America/Denver:20181001T092013
URL;VALUE=URI:https://bliss.armymwr.com/calendar/event
DTSTART;TZID=America/Denver:20181004T090000
DTEND;TZID=America/Denver:20181004T100000
SEQUENCE:0
END:VEVENT
END:VCALENDAR
