BEGIN:VCALENDAR
VERSION:2.0
PRODID:-//Sabre//Sabre VObject 4.5.8//EN
CALSCALE:GREGORIAN
BEGIN:VEVENT
UID:sabre-vobject-cbc10b0e-42bc-4f0d-a2c2-2493f3e79bd0
DTSTAMP:20260420T170128Z
SUMMARY:EFMP: Spooky Game Night! 
DESCRIPTION:Get your spook on :)\n
X-ALT-DESC:FMTTYPE=text/html:<!DOCTYPE HTML PUBLIC "-//W3C//DTD HTML 3.2//E
 N"><HTML><p>Get your spook on :)</p>\n</HTML>
CREATED;TZID=America/Denver:20181017T134452
URL;VALUE=URI:https://bliss.armymwr.com/calendar/event
DTSTART;TZID=America/Denver:20181026T173000
DTEND;TZID=America/Denver:20181026T190000
SEQUENCE:0
END:VEVENT
END:VCALENDAR
