BEGIN:VCALENDAR
VERSION:2.0
PRODID:-//Sabre//Sabre VObject 4.5.8//EN
CALSCALE:GREGORIAN
BEGIN:VEVENT
UID:sabre-vobject-16507497-b030-4491-bdb1-042376292722
DTSTAMP:20260425T185206Z
SUMMARY:Halloween Monster Day Skins Game
DESCRIPTION:
X-ALT-DESC:FMTTYPE=text/html:<!DOCTYPE HTML PUBLIC "-//W3C//DTD HTML 3.2//E
 N"><HTML></HTML>
CREATED;TZID=America/Denver:20210907T091119
URL;VALUE=URI:https://bliss.armymwr.com/calendar/event
DTSTART;TZID=America/Denver:20211030T060000
DTEND;TZID=America/Denver:20211030T170000
SEQUENCE:0
END:VEVENT
END:VCALENDAR
