BEGIN:VCALENDAR
VERSION:2.0
PRODID:-//Sabre//Sabre VObject 4.5.8//EN
CALSCALE:GREGORIAN
BEGIN:VEVENT
UID:sabre-vobject-49be6797-5f98-430d-9883-7918aa1f6d2c
DTSTAMP:20260424T094121Z
SUMMARY:AFTB: Military Knowledge
DESCRIPTION:What&#39\;s In It For Me?\n
X-ALT-DESC:FMTTYPE=text/html:<!DOCTYPE HTML PUBLIC "-//W3C//DTD HTML 3.2//E
 N"><HTML><p>What&#39\;s In It For Me?</p>\n</HTML>
CREATED;TZID=America/Denver:20230111T085114
URL;VALUE=URI:https://bliss.armymwr.com/calendar/event
DTSTART;TZID=America/Denver:20230202T090000
DTEND;TZID=America/Denver:20230202T120000
SEQUENCE:0
END:VEVENT
BEGIN:VEVENT
UID:sabre-vobject-966bbc39-e640-4381-858b-75fba68625b6
DTSTAMP:20260424T094121Z
SUMMARY:AFTB: Military Knowledge
DESCRIPTION:What&#39\;s In It For Me?\n
X-ALT-DESC:FMTTYPE=text/html:<!DOCTYPE HTML PUBLIC "-//W3C//DTD HTML 3.2//E
 N"><HTML><p>What&#39\;s In It For Me?</p>\n</HTML>
CREATED;TZID=America/Denver:20230111T085114
URL;VALUE=URI:https://bliss.armymwr.com/calendar/event
DTSTART;TZID=America/Denver:20230531T130000
DTEND;TZID=America/Denver:20230531T160000
SEQUENCE:1
END:VEVENT
BEGIN:VEVENT
UID:sabre-vobject-81e70424-470e-4807-94d6-37347aa87233
DTSTAMP:20260424T094121Z
SUMMARY:AFTB: Military Knowledge
DESCRIPTION:What&#39\;s In It For Me?\n
X-ALT-DESC:FMTTYPE=text/html:<!DOCTYPE HTML PUBLIC "-//W3C//DTD HTML 3.2//E
 N"><HTML><p>What&#39\;s In It For Me?</p>\n</HTML>
CREATED;TZID=America/Denver:20230111T085114
URL;VALUE=URI:https://bliss.armymwr.com/calendar/event
DTSTART;TZID=America/Denver:20230921T090000
DTEND;TZID=America/Denver:20230921T120000
SEQUENCE:2
END:VEVENT
BEGIN:VEVENT
UID:sabre-vobject-4dea8f89-0759-4ff7-b4f5-3bff1d7e5236
DTSTAMP:20260424T094121Z
SUMMARY:AFTB: Military Knowledge
DESCRIPTION:What&#39\;s In It For Me?\n
X-ALT-DESC:FMTTYPE=text/html:<!DOCTYPE HTML PUBLIC "-//W3C//DTD HTML 3.2//E
 N"><HTML><p>What&#39\;s In It For Me?</p>\n</HTML>
CREATED;TZID=America/Denver:20230111T085114
URL;VALUE=URI:https://bliss.armymwr.com/calendar/event
DTSTART;TZID=America/Denver:20231205T130000
DTEND;TZID=America/Denver:20231205T160000
SEQUENCE:3
END:VEVENT
END:VCALENDAR
