BEGIN:VCALENDAR
VERSION:2.0
PRODID:-//Sabre//Sabre VObject 4.5.8//EN
CALSCALE:GREGORIAN
BEGIN:VEVENT
UID:sabre-vobject-12831c57-b5a0-431c-8e4c-c2781435151b
DTSTAMP:20260423T080834Z
SUMMARY:Pot O' Gold Walk-a-Thon 2025
DESCRIPTION:
X-ALT-DESC:FMTTYPE=text/html:<!DOCTYPE HTML PUBLIC "-//W3C//DTD HTML 3.2//E
 N"><HTML></HTML>
CREATED;TZID=America/Denver:20250218T154718
URL;VALUE=URI:https://bliss.armymwr.com/calendar/event
DTSTART;TZID=America/Denver:20250317T163000
DTEND;TZID=America/Denver:20250317T180000
SEQUENCE:0
END:VEVENT
END:VCALENDAR
