BEGIN:VCALENDAR
VERSION:2.0
PRODID:-//Sabre//Sabre VObject 4.5.8//EN
CALSCALE:GREGORIAN
BEGIN:VEVENT
UID:sabre-vobject-67c4c54a-e320-4643-a61a-00436d1c5e31
DTSTAMP:20260420T121117Z
SUMMARY:SFAC Information Fair
DESCRIPTION:
X-ALT-DESC:FMTTYPE=text/html:<!DOCTYPE HTML PUBLIC "-//W3C//DTD HTML 3.2//E
 N"><HTML></HTML>
CREATED;TZID=America/Denver:20241216T154933
URL;VALUE=URI:https://bliss.armymwr.com/calendar/event
DTSTART;TZID=America/Denver:20250306T130000
DTEND;TZID=America/Denver:20250306T143000
SEQUENCE:0
END:VEVENT
BEGIN:VEVENT
UID:sabre-vobject-54ca819b-f9fb-44f0-a017-4360d9b14f80
DTSTAMP:20260420T121117Z
SUMMARY:SFAC Information Fair
DESCRIPTION:
X-ALT-DESC:FMTTYPE=text/html:<!DOCTYPE HTML PUBLIC "-//W3C//DTD HTML 3.2//E
 N"><HTML></HTML>
CREATED;TZID=America/Denver:20241216T154933
URL;VALUE=URI:https://bliss.armymwr.com/calendar/event
DTSTART;TZID=America/Denver:20250605T130000
DTEND;TZID=America/Denver:20250605T143000
SEQUENCE:1
END:VEVENT
BEGIN:VEVENT
UID:sabre-vobject-b0bbff74-fbe8-40d3-9016-2d05632a6142
DTSTAMP:20260420T121117Z
SUMMARY:SFAC Information Fair
DESCRIPTION:
X-ALT-DESC:FMTTYPE=text/html:<!DOCTYPE HTML PUBLIC "-//W3C//DTD HTML 3.2//E
 N"><HTML></HTML>
CREATED;TZID=America/Denver:20241216T154933
URL;VALUE=URI:https://bliss.armymwr.com/calendar/event
DTSTART;TZID=America/Denver:20250904T130000
DTEND;TZID=America/Denver:20250904T143000
SEQUENCE:2
END:VEVENT
END:VCALENDAR
