BEGIN:VCALENDAR
VERSION:2.0
PRODID:-//Sabre//Sabre VObject 4.5.8//EN
CALSCALE:GREGORIAN
BEGIN:VEVENT
UID:sabre-vobject-7889fc73-9d52-4b05-a6e9-bddcd0c0aa4f
DTSTAMP:20260421T073303Z
SUMMARY:Dad's Day in the Park
DESCRIPTION:
X-ALT-DESC:FMTTYPE=text/html:<!DOCTYPE HTML PUBLIC "-//W3C//DTD HTML 3.2//E
 N"><HTML></HTML>
CREATED;TZID=America/Denver:20250408T144708
URL;VALUE=URI:https://bliss.armymwr.com/calendar/event
DTSTART;TZID=America/Denver:20250503T090000
DTEND;TZID=America/Denver:20250503T110000
SEQUENCE:0
END:VEVENT
END:VCALENDAR
