BEGIN:VCALENDAR
VERSION:2.0
PRODID:-//Sabre//Sabre VObject 4.5.8//EN
CALSCALE:GREGORIAN
BEGIN:VEVENT
UID:sabre-vobject-98ff062b-592f-47e5-9eb1-069d4298a23c
DTSTAMP:20260420T203421Z
SUMMARY:ACS FacilitatorTraining Course
DESCRIPTION:ACS Facilitator Training Course\n
X-ALT-DESC:FMTTYPE=text/html:<!DOCTYPE HTML PUBLIC "-//W3C//DTD HTML 3.2//E
 N"><HTML><p>ACS Facilitator Training Course</p>\n</HTML>
CREATED;TZID=America/Denver:20180116T133739
URL;VALUE=URI:https://bliss.armymwr.com/calendar/event
DTSTART;TZID=America/Denver:20181002T080000
DTEND;TZID=America/Denver:20181002T163000
SEQUENCE:0
END:VEVENT
END:VCALENDAR
