BEGIN:VCALENDAR
VERSION:2.0
PRODID:-//Sabre//Sabre VObject 4.5.8//EN
CALSCALE:GREGORIAN
BEGIN:VEVENT
UID:sabre-vobject-c8ed48cb-a6f5-4097-b92b-fb9709bb81f7
DTSTAMP:20260424T053557Z
SUMMARY:Fort Bliss Art Contest: Express Yourself – Imagination Unbound
DESCRIPTION:
X-ALT-DESC:FMTTYPE=text/html:<!DOCTYPE HTML PUBLIC "-//W3C//DTD HTML 3.2//E
 N"><HTML></HTML>
CREATED;TZID=America/Denver:20241216T100008
URL;VALUE=URI:https://bliss.armymwr.com/calendar/event
DTSTART;TZID=America/Denver:20250131T170000
DTEND;TZID=America/Denver:20250131T200000
SEQUENCE:0
END:VEVENT
BEGIN:VEVENT
UID:sabre-vobject-c986afe1-e298-4643-ba4a-c9738f8a806b
DTSTAMP:20260424T053557Z
SUMMARY:Fort Bliss Art Contest: Express Yourself – Imagination Unbound
DESCRIPTION:
X-ALT-DESC:FMTTYPE=text/html:<!DOCTYPE HTML PUBLIC "-//W3C//DTD HTML 3.2//E
 N"><HTML></HTML>
CREATED;TZID=America/Denver:20241216T100008
URL;VALUE=URI:https://bliss.armymwr.com/calendar/event
DTSTART;TZID=America/Denver:20250201T100000
DTEND;TZID=America/Denver:20250201T140000
SEQUENCE:1
END:VEVENT
END:VCALENDAR
