BEGIN:VCALENDAR
VERSION:2.0
PRODID:-//Sabre//Sabre VObject 4.5.8//EN
CALSCALE:GREGORIAN
BEGIN:VEVENT
UID:sabre-vobject-3aef3479-e411-4fbc-8b1d-af159a465b66
DTSTAMP:20260423T094233Z
SUMMARY:Lucha Libre
DESCRIPTION:Special Events\n
X-ALT-DESC:FMTTYPE=text/html:<!DOCTYPE HTML PUBLIC "-//W3C//DTD HTML 3.2//E
 N"><HTML><p><a href="https://bliss.armymwr.com/directory/64206">Special Ev
 ents</a></p>\n</HTML>
CREATED;TZID=America/Denver:20250114T174155
URL;VALUE=URI:https://bliss.armymwr.com/calendar/event
DTSTART;TZID=America/Denver:20250207T180000
DTEND;TZID=America/Denver:20250207T220000
SEQUENCE:0
END:VEVENT
END:VCALENDAR
