BEGIN:VCALENDAR
VERSION:2.0
PRODID:-//Sabre//Sabre VObject 4.5.8//EN
CALSCALE:GREGORIAN
BEGIN:VEVENT
UID:sabre-vobject-cfd6a547-38dc-41a9-8337-3fbf25edfb3d
DTSTAMP:20260422T220154Z
SUMMARY:Easter Egg Swim
DESCRIPTION:Aquatics\n
X-ALT-DESC:FMTTYPE=text/html:<!DOCTYPE HTML PUBLIC "-//W3C//DTD HTML 3.2//E
 N"><HTML><p>Aquatics</p>\n</HTML>
CREATED;TZID=America/Denver:20250321T110637
URL;VALUE=URI:https://bliss.armymwr.com/calendar/event
DTSTART;TZID=America/Denver:20250419T100000
DTEND;TZID=America/Denver:20250419T110000
SEQUENCE:0
END:VEVENT
END:VCALENDAR
