BEGIN:VCALENDAR
VERSION:2.0
PRODID:-//Sabre//Sabre VObject 4.5.8//EN
CALSCALE:GREGORIAN
BEGIN:VEVENT
UID:sabre-vobject-942bf115-3b52-4454-8127-dc7c491aa242
DTSTAMP:20260420T121941Z
SUMMARY:Armed Forces 5k
DESCRIPTION:
X-ALT-DESC:FMTTYPE=text/html:<!DOCTYPE HTML PUBLIC "-//W3C//DTD HTML 3.2//E
 N"><HTML></HTML>
CREATED;TZID=America/Denver:20250319T110556
URL;VALUE=URI:https://bliss.armymwr.com/calendar/event
DTSTART;TZID=America/Denver:20250503T090000
DTEND;TZID=America/Denver:20250503T100000
SEQUENCE:0
END:VEVENT
END:VCALENDAR
