BEGIN:VCALENDAR
VERSION:2.0
PRODID:-//Sabre//Sabre VObject 4.5.8//EN
CALSCALE:GREGORIAN
BEGIN:VEVENT
UID:sabre-vobject-4439a11e-9388-4742-8b33-ef6992e23174
DTSTAMP:20260419T193054Z
SUMMARY:Military Spouse Appreciation Day
DESCRIPTION:Come out and enjoy crafts\, activities\, games and MORE!\n\nWe 
 recognize the strength\, resilience\, and unwavering support of military s
 pouses. Behind every service member is a partner who faces the unique chal
 lenges of military life with courage and grace\, all while holding familie
 s together. We extend our deepest gratitude for your dedication\, love and
  quiet heroism.\n\nCall 915-569-5577 for more information. Event to be Hel
 d at Centennial Banquet and Conference Center.\n
X-ALT-DESC:FMTTYPE=text/html:<!DOCTYPE HTML PUBLIC "-//W3C//DTD HTML 3.2//E
 N"><HTML><p>Come out and enjoy crafts\, activities\, games and MORE!</p>\n
 \n<p>We recognize the strength\, resilience\, and unwavering support of mi
 litary spouses. Behind every service member is a partner who faces the uni
 que challenges of military life with courage and grace\, all while holding
  families together. We extend our deepest gratitude for your dedication\, 
 love and quiet heroism.</p>\n\n<p>Call 915-569-5577 for more information. 
 Event to be Held at Centennial Banquet and Conference Center.</p>\n</HTML>
CREATED;TZID=America/Denver:20250429T162519
URL;VALUE=URI:https://bliss.armymwr.com/calendar/event
DTSTART;TZID=America/Denver:20250509T140000
DTEND;TZID=America/Denver:20250509T180000
SEQUENCE:0
END:VEVENT
END:VCALENDAR
