BEGIN:VCALENDAR
VERSION:2.0
PRODID:-//Sabre//Sabre VObject 4.5.8//EN
CALSCALE:GREGORIAN
BEGIN:VEVENT
UID:sabre-vobject-7131e8f4-ec5f-4154-9e4d-af799c618e1b
DTSTAMP:20260425T103646Z
SUMMARY:Spin into the New Year
DESCRIPTION:Group Fitness\n
X-ALT-DESC:FMTTYPE=text/html:<!DOCTYPE HTML PUBLIC "-//W3C//DTD HTML 3.2//E
 N"><HTML><p><a href="https://bliss.armymwr.com/programs/group-fitness">Gro
 up Fitness</a></p>\n</HTML>
CREATED;TZID=America/Denver:20241202T130738
URL;VALUE=URI:https://bliss.armymwr.com/calendar/event
DTSTART;TZID=America/Denver:20250104T100000
DTEND;TZID=America/Denver:20250104T113000
SEQUENCE:0
END:VEVENT
END:VCALENDAR
